BEGIN:VCALENDAR
VERSION:2.0
PRODID:-//Country und Line Dance - ECPv6.15.11//NONSGML v1.0//EN
CALSCALE:GREGORIAN
METHOD:PUBLISH
X-ORIGINAL-URL:https://www.lvk-culd.at
X-WR-CALDESC:Veranstaltungen für Country und Line Dance
REFRESH-INTERVAL;VALUE=DURATION:PT1H
X-Robots-Tag:noindex
X-PUBLISHED-TTL:PT1H
BEGIN:VTIMEZONE
TZID:Europe/Vienna
BEGIN:DAYLIGHT
TZOFFSETFROM:+0100
TZOFFSETTO:+0200
TZNAME:CEST
DTSTART:20230326T010000
END:DAYLIGHT
BEGIN:STANDARD
TZOFFSETFROM:+0200
TZOFFSETTO:+0100
TZNAME:CET
DTSTART:20231029T010000
END:STANDARD
BEGIN:DAYLIGHT
TZOFFSETFROM:+0100
TZOFFSETTO:+0200
TZNAME:CEST
DTSTART:20240331T010000
END:DAYLIGHT
BEGIN:STANDARD
TZOFFSETFROM:+0200
TZOFFSETTO:+0100
TZNAME:CET
DTSTART:20241027T010000
END:STANDARD
BEGIN:DAYLIGHT
TZOFFSETFROM:+0100
TZOFFSETTO:+0200
TZNAME:CEST
DTSTART:20250330T010000
END:DAYLIGHT
BEGIN:STANDARD
TZOFFSETFROM:+0200
TZOFFSETTO:+0100
TZNAME:CET
DTSTART:20251026T010000
END:STANDARD
BEGIN:DAYLIGHT
TZOFFSETFROM:+0100
TZOFFSETTO:+0200
TZNAME:CEST
DTSTART:20260329T010000
END:DAYLIGHT
BEGIN:STANDARD
TZOFFSETFROM:+0200
TZOFFSETTO:+0100
TZNAME:CET
DTSTART:20261025T010000
END:STANDARD
BEGIN:DAYLIGHT
TZOFFSETFROM:+0100
TZOFFSETTO:+0200
TZNAME:CEST
DTSTART:20270328T010000
END:DAYLIGHT
BEGIN:STANDARD
TZOFFSETFROM:+0200
TZOFFSETTO:+0100
TZNAME:CET
DTSTART:20271031T010000
END:STANDARD
END:VTIMEZONE
BEGIN:VEVENT
DTSTART;TZID=Europe/Vienna:20260418T140000
DTEND;TZID=Europe/Vienna:20260418T230000
DTSTAMP:20260419T202637
CREATED:20251005T201449Z
LAST-MODIFIED:20260406T170739Z
UID:1273-1776520800-1776553200@www.lvk-culd.at
SUMMARY:Workshop  & Party mit Niels Poulsen
DESCRIPTION:ZEITPLAN\n						+ Workshop von 14.00 bis ca. 18.30 Uhr + Ca. eine Stunde Pause + Anschließend Party bis 23.00 Uhr\, Party: 10 Euro \nAm 18. April dürfen wir Niels Poulsen aus Dänemark zum zweiten Mal in Kärnten begrüßen. Er wurde 2025 mit dem Crystal Boot Award als International Choreographer of the Year ausgezeichnet.  \nPoulsen ist aus der internationalen Line Dance-Szene nicht mehr wegzudenken und bringt einige seiner Tänze mit. Ausverkauft! Für die Party gibt es noch freie Plätze… \nFür Essen und Getränke ist gesorgt! \n					\n				\n			\n			\n				\n				\n				\n				\n			\n				\n				\n				\n				\n				\n				\n				\n				\n				\n				\n				\n			\n				\n				\n				\n				\n				\n					\n					\n						PARTY-MOTTO: Nordsee Ahoi!\n						Unser Gast von der dänischen Nordsee hat uns zu diesem Party-Motto inspiriert (natürlich auf freiwilliger Basis)! \nKomm als Kapitänin\, als Matrose\, als Leuchturm oder Fischbrötchen\, Fischer oder Taucher… Verwandle dich in ein Meerestier oder entdecke deine innere Meerjungfrau!Wir sind gespannt!  \n					\n				\n			\n			\n				\n				\n				\n				\n			\n				\n				\n			\n				\n				\n				\n				\n				\n				\n				\n				\n				\n				\n				\n				\n				\n			\n				\n				\n				\n				\n				\n				HIER ANMELDEN\n			\n				\n				\n				\n				\n				AUSVERKAUFT/WARTELISTEAnmeldung für Warteliste unter lvkculd@gmail.com 
URL:https://www.lvk-culd.at/event/workshop-party-mit-niels-poulsen-2/
LOCATION:Gemeindezentrum St. Ruprecht\, Kinoplatz 3\, Klagenfurt\, Kärnten\, 9020\, Österreich
ATTACH;FMTTYPE=image/jpeg:https://www.lvk-culd.at/wp-content/uploads/2024/06/NilsPoulsen.jpg
ORGANIZER;CN="LVK-CULD - Landesverband K%C3%A4rnten":MAILTO:lvkculd@gmail.com
END:VEVENT
BEGIN:VEVENT
DTSTART;TZID=Europe/Vienna:20260411T180000
DTEND;TZID=Europe/Vienna:20260411T220000
DTSTAMP:20260419T202637
CREATED:20251010T185637Z
LAST-MODIFIED:20260224T170137Z
UID:1310-1775930400-1775944800@www.lvk-culd.at
SUMMARY:Linedance-Party mit DJ Helmut
DESCRIPTION:Monatliche Line Dance-Party in der Tanzschule Wankmüller Klagenfurt. Keine Anmeldung erforderlich! DJ Helmut legt eure Lieblingstänze auf… \nUnkostenbeitrag EUR 10\,00 pro Tanzabend
URL:https://www.lvk-culd.at/event/linedance-party-mit-dj-helmut-7/
LOCATION:Tanzwelt Wankmüller\, Schleppe Platz 5\, Klagenfurt am Wörthersee\, Kärnten\, 9020\, Austria
ATTACH;FMTTYPE=image/jpeg:https://www.lvk-culd.at/wp-content/uploads/2025/10/Line-Dancing-makes-my-heart-happy.jpg
END:VEVENT
BEGIN:VEVENT
DTSTART;TZID=Europe/Vienna:20260410T190000
DTEND;TZID=Europe/Vienna:20260410T230000
DTSTAMP:20260419T202637
CREATED:20260212T123750Z
LAST-MODIFIED:20260224T165344Z
UID:1478-1775847600-1775862000@www.lvk-culd.at
SUMMARY:Get in Line - mit Livemusik
DESCRIPTION:LIVE: PRETTY OLD\n\nEin beschwingter Line Dance-Tanzabend ab 19.00 Uhr im Gasthaus Wiegele\, die Musik kommt live von der beliebten Band „Pretty Old“. \n\n\n\n\n\n\n\nANMELDUNG:\n\nEintritt: Freiwillige Spende!Keine Anmeldung!
URL:https://www.lvk-culd.at/event/get-in-line-mit-livemusik/
LOCATION:Gasthaus Wiegele\, Pogöriacherstrasse 187\, Villach\, Kärnten\, 9500\, Austria
ATTACH;FMTTYPE=image/jpeg:https://www.lvk-culd.at/wp-content/uploads/2026/02/HP_Wiegele2.jpg
END:VEVENT
BEGIN:VEVENT
DTSTART;TZID=Europe/Vienna:20260321T153000
DTEND;TZID=Europe/Vienna:20260321T230000
DTSTAMP:20260419T202637
CREATED:20250405T175434Z
LAST-MODIFIED:20260224T164702Z
UID:1135-1774107000-1774134000@www.lvk-culd.at
SUMMARY:Frühlingsfest der LDCK
DESCRIPTION:WORKSHOP\, PARTY & SHOW \nFrühlingsfest der Linedance Company Klagenfurt mit Workshops und Showeinlagen von den „Members of Dance“ und dem „Kids&Juniors Dance Team“ \nANMELDUNG unter anmeldung@linedance.at oder 0699 81270585
URL:https://www.lvk-culd.at/event/fruehlingfest-der-ldck-2/
LOCATION:Gemeindezentrum St. Ruprecht\, Kinoplatz 3\, Klagenfurt\, Kärnten\, 9020\, Österreich
ATTACH;FMTTYPE=image/jpeg:https://www.lvk-culd.at/wp-content/uploads/2025/04/HP-fruhlingsfest_klein-e1771231524153.jpg
ORGANIZER;CN="Line Dance Company Klagenfurt":MAILTO:info@linedance.at
END:VEVENT
BEGIN:VEVENT
DTSTART;TZID=Europe/Vienna:20260214T180000
DTEND;TZID=Europe/Vienna:20260214T220000
DTSTAMP:20260419T202637
CREATED:20251010T185531Z
LAST-MODIFIED:20251113T195631Z
UID:1308-1771092000-1771106400@www.lvk-culd.at
SUMMARY:Linedance-Party mit DJ Helmut
DESCRIPTION:Unkostenbeitrag EUR 10\,00 pro Tanzabend
URL:https://www.lvk-culd.at/event/linedance-party-mit-dj-helmut-6/
LOCATION:Tanzwelt Wankmüller\, Schleppe Platz 5\, Klagenfurt am Wörthersee\, Kärnten\, 9020\, Austria
ATTACH;FMTTYPE=image/jpeg:https://www.lvk-culd.at/wp-content/uploads/2025/10/Line-Dancing-makes-my-heart-happy.jpg
END:VEVENT
BEGIN:VEVENT
DTSTART;TZID=Europe/Vienna:20260213T193000
DTEND;TZID=Europe/Vienna:20260213T230000
DTSTAMP:20260419T202637
CREATED:20251123T181751Z
LAST-MODIFIED:20260117T045021Z
UID:1345-1771011000-1771023600@www.lvk-culd.at
SUMMARY:Faschingsparty der LDCK
DESCRIPTION:ANMELDUNG:\n						Keine Anmeldung erforderlich!
URL:https://www.lvk-culd.at/event/faschingsparty-der-ldck-3/
LOCATION:Pfarre St. Theresia\, Auer-von-Welsbach-Straße 1\, Klagenfurt am Wörthersee\, Kärnten\, 9020\, Österreich
ORGANIZER;CN="Line Dance Company Klagenfurt":MAILTO:info@linedance.at
END:VEVENT
BEGIN:VEVENT
DTSTART;TZID=Europe/Vienna:20260130T183000
DTEND;TZID=Europe/Vienna:20260130T210000
DTSTAMP:20260419T202637
CREATED:20250613T181141Z
LAST-MODIFIED:20260107T060137Z
UID:1204-1769797800-1769806800@www.lvk-culd.at
SUMMARY:Generalversammlung des LVK-Culd
DESCRIPTION:KEINE ANMELDUNG ERFORDERLICH
URL:https://www.lvk-culd.at/event/generalversammlung-des-lvk-culd-3/
LOCATION:Pfarre St. Theresia\, Auer-von-Welsbach-Straße 1\, Klagenfurt am Wörthersee\, Kärnten\, 9020\, Österreich
ATTACH;FMTTYPE=image/png:https://www.lvk-culd.at/wp-content/uploads/2023/12/cropped-website-icon.png
ORGANIZER;CN="LVK-CULD - Landesverband K%C3%A4rnten":MAILTO:lvkculd@gmail.com
END:VEVENT
BEGIN:VEVENT
DTSTART;TZID=Europe/Vienna:20260110T180000
DTEND;TZID=Europe/Vienna:20260110T220000
DTSTAMP:20260419T202637
CREATED:20251010T184443Z
LAST-MODIFIED:20251113T195135Z
UID:1298-1768068000-1768082400@www.lvk-culd.at
SUMMARY:Linedance-Party mit DJ Helmut
DESCRIPTION:Unkostenbeitrag EUR 10\,00 pro Tanzabend
URL:https://www.lvk-culd.at/event/linedance-party-mit-dj-helmut-5/
LOCATION:Tanzwelt Wankmüller\, Schleppe Platz 5\, Klagenfurt am Wörthersee\, Kärnten\, 9020\, Austria
ATTACH;FMTTYPE=image/jpeg:https://www.lvk-culd.at/wp-content/uploads/2025/10/Line-Dancing-makes-my-heart-happy.jpg
END:VEVENT
BEGIN:VEVENT
DTSTART;TZID=Europe/Vienna:20260110T140000
DTEND;TZID=Europe/Vienna:20260110T230000
DTSTAMP:20260419T202637
CREATED:20251113T185032Z
LAST-MODIFIED:20251113T190643Z
UID:1319-1768053600-1768086000@www.lvk-culd.at
SUMMARY:Start Up And Dance Beginner Workshop + Party
DESCRIPTION:ANMELDUNG:\n						Informationen folgen bzw. gibt es laufend auf der Facebook Seite der Line Dance Family! \n  \n					\n				\n			\n				\n				\n				\n				\n				Anmeldungen ab 30.11.2025 ab 13.00 Uhr offen:  \nlinedancefamilykaernten@gmx.at
URL:https://www.lvk-culd.at/event/start-up-and-dance-beginner-workshop-party-2/
LOCATION:Hotel eduCARE\, Eichrainweg 7-9\, Treffen am Ossiacher See\, Kärnten\, 9521\, Österreich
ATTACH;FMTTYPE=image/jpeg:https://www.lvk-culd.at/wp-content/uploads/2024/07/image0.jpeg
ORGANIZER;CN="Line Dance Family":MAILTO:startupanddance@gmx.net
END:VEVENT
BEGIN:VEVENT
DTSTART;TZID=Europe/Vienna:20251129T160000
DTEND;TZID=Europe/Vienna:20251129T230000
DTSTAMP:20260419T202637
CREATED:20241012T183245Z
LAST-MODIFIED:20251009T191115Z
UID:995-1764432000-1764457200@www.lvk-culd.at
SUMMARY:Christmas Workshop mit Party
DESCRIPTION:Workshop von 16.00 bis 19.00 Uhr\, anschließend Party bis 23.00 Uhr\n						Anmeldungen und Tanzwünsche bis 20.11.2025 an \nanmeldung@lvk-culd.at \n  \n  \n					\n				\n			\n				\n				\n				\n				\n				Alle Jahre wieder …  Der LVK-Culd möchte wieder alle tanzbegeisterten LineDancer und LineDancerinnen zu einem Christmas Workshop einladen. Woody\, Patricia\, Luise und Erika freuen sich darauf Euch neue Tänze beizubringen. \nFür Eurer leibliches Wohl wird selbstverständlich gesorgt! \nFür LVK-Culd-Mitglieder ist der Eintritt gratis! \nFür Nicht-Mitglieder: Workshop & Party EUR 19\,00       nur Party: EUR 5\,00 \n 
URL:https://www.lvk-culd.at/event/christmas-workshop-2/
LOCATION:Gemeindezentrum St. Ruprecht\, Kinoplatz 3\, Klagenfurt\, Kärnten\, 9020\, Österreich
ATTACH;FMTTYPE=image/jpeg:https://www.lvk-culd.at/wp-content/uploads/2024/02/christmas-3735928_1280.jpg
ORGANIZER;CN="LVK-CULD - Landesverband K%C3%A4rnten":MAILTO:lvkculd@gmail.com
END:VEVENT
BEGIN:VEVENT
DTSTART;TZID=Europe/Vienna:20251108T170000
DTEND;TZID=Europe/Vienna:20251108T230000
DTSTAMP:20260419T202637
CREATED:20241214T153847Z
LAST-MODIFIED:20250930T182434Z
UID:1061-1762621200-1762642800@www.lvk-culd.at
SUMMARY:Line Dance Party für Alle
DESCRIPTION:ANMELDUNG:\n						Anmeldungen an linedancecircle.at@gmail.com
URL:https://www.lvk-culd.at/event/line-dance-party-fuer-alle/
LOCATION:Gasthof Plasch\, Reßnig 17\, Ferlach\, Kärnten\, 9170\, Österreich
END:VEVENT
BEGIN:VEVENT
DTSTART;VALUE=DATE:20251018
DTEND;VALUE=DATE:20251019
DTSTAMP:20260419T202637
CREATED:20241214T153030Z
LAST-MODIFIED:20241214T163843Z
UID:1055-1760745600-1760831999@www.lvk-culd.at
SUMMARY:Line Dance Jamboree
DESCRIPTION:ANMELDUNG:\n						Informationen folgen bzw. gibt es laufend auf der Facebook Seite der Line Dance Family! \n \n					\n				\n			\n				\n				\n				\n				\n				linedancefamilykaernten@gmx.at \n 
URL:https://www.lvk-culd.at/event/line-dance-jamboree/
LOCATION:Stadtsaal Feldkirchen\, Obere Tiebelgasse 8\, Feldkirchen in Kärnten\, Kärnten\, 9560\, Austria
ORGANIZER;CN="Line Dance Family":MAILTO:startupanddance@gmx.net
END:VEVENT
BEGIN:VEVENT
DTSTART;TZID=Europe/Vienna:20251011T180000
DTEND;TZID=Europe/Vienna:20251011T213000
DTSTAMP:20260419T202637
CREATED:20250408T200506Z
LAST-MODIFIED:20250408T200510Z
UID:1163-1760205600-1760218200@www.lvk-culd.at
SUMMARY:Linedance-Party mit DJ Helmut
DESCRIPTION:ANMELDUNG:\n						Unkostenbeitrag EUR 10\,00 pro Tanzabend \n					\n				\n			\n				HIER ANMELDEN
URL:https://www.lvk-culd.at/event/linedance-party-mit-dj-helmut-4/
LOCATION:Tanzwelt Wankmüller\, Schleppe Platz 5\, Klagenfurt am Wörthersee\, Kärnten\, 9020\, Austria
END:VEVENT
BEGIN:VEVENT
DTSTART;TZID=Europe/Vienna:20251011T140000
DTEND;TZID=Europe/Vienna:20251011T230000
DTSTAMP:20260419T202637
CREATED:20250118T101057Z
LAST-MODIFIED:20251005T202438Z
UID:1093-1760191200-1760223600@www.lvk-culd.at
SUMMARY:ABGESAGT!!!   Workshop & Party mit Paul Birbaumer - Cooperation LVK-CULD & ACWDA (ÖCWTA)
DESCRIPTION:ANMELDUNG:\n						\n					\n				\n			\n				Anmeldung über den oben angeführten Link
URL:https://www.lvk-culd.at/event/workshop-party-nach-dem-tanzabzeichen-der-acwda/
LOCATION:Hotel eduCARE\, Eichrainweg 7-9\, Treffen am Ossiacher See\, Kärnten\, 9521\, Österreich
END:VEVENT
BEGIN:VEVENT
DTSTART;TZID=Europe/Vienna:20250919T190000
DTEND;TZID=Europe/Vienna:20250920T000000
DTSTAMP:20260419T202637
CREATED:20250119T192216Z
LAST-MODIFIED:20250119T192649Z
UID:1099-1758308400-1758326400@www.lvk-culd.at
SUMMARY:Maggie Gallagher
DESCRIPTION:ANMELDUNG:\n						Anmeldung ab 31.01.2025 unter \nchilidancers.veranstaltung@gmx.at
URL:https://www.lvk-culd.at/event/maggie-gallagher/
LOCATION:Hotel eduCARE\, Eichrainweg 7-9\, Treffen am Ossiacher See\, Kärnten\, 9521\, Österreich
END:VEVENT
BEGIN:VEVENT
DTSTART;TZID=Europe/Vienna:20250913T180000
DTEND;TZID=Europe/Vienna:20250913T213000
DTSTAMP:20260419T202637
CREATED:20250408T200352Z
LAST-MODIFIED:20250408T200356Z
UID:1161-1757786400-1757799000@www.lvk-culd.at
SUMMARY:Linedance-Party mit DJ Helmut
DESCRIPTION:ANMELDUNG:\n						Unkostenbeitrag EUR 10\,00 pro Tanzabend \n					\n				\n			\n				HIER ANMELDEN
URL:https://www.lvk-culd.at/event/linedance-party-mit-dj-helmut-3/
LOCATION:Tanzwelt Wankmüller\, Schleppe Platz 5\, Klagenfurt am Wörthersee\, Kärnten\, 9020\, Austria
END:VEVENT
BEGIN:VEVENT
DTSTART;TZID=Europe/Vienna:20250814T180000
DTEND;TZID=Europe/Vienna:20250814T220000
DTSTAMP:20260419T202637
CREATED:20250408T200709Z
LAST-MODIFIED:20250408T203017Z
UID:1165-1755194400-1755208800@www.lvk-culd.at
SUMMARY:Flower & Power Linedanceparty
DESCRIPTION:ANMELDUNG:\n						Begrenzte Teilnehmerzahl\, bitte daher telefonische Anmeldung bei Luise: 0664/73799862 \nUnkostenbeitrag EUR 10\,00 \n					\n				\n			\n				HIER ANMELDEN
URL:https://www.lvk-culd.at/event/flower-power-linedanceparty/
LOCATION:Tanzwelt Wankmüller\, Schleppe Platz 5\, Klagenfurt am Wörthersee\, Kärnten\, 9020\, Austria
END:VEVENT
BEGIN:VEVENT
DTSTART;TZID=Europe/Vienna:20250811T160000
DTEND;TZID=Europe/Vienna:20250811T200000
DTSTAMP:20260419T202637
CREATED:20250409T200505Z
LAST-MODIFIED:20250409T200509Z
UID:1175-1754928000-1754942400@www.lvk-culd.at
SUMMARY:Linedance Workshop beim Gackern
DESCRIPTION:ANMELDUNG:\n						Keine Anmeldung erforderlich!
URL:https://www.lvk-culd.at/event/linedance-workshop-beim-gackern-2/
LOCATION:Loretowiese\, 9433 St. Andrä im Lavantal\, Loretowiese\, St. Andrä i.L.\, Kärnten\, 9433\, Österreich
ATTACH;FMTTYPE=image/jpeg:https://www.lvk-culd.at/wp-content/uploads/2023/12/Line-country-dance-tanzen-landesverband-kaernten-Bild-Taenzer-Beine.jpg
ORGANIZER;CN="Line Dance Company Klagenfurt":MAILTO:info@linedance.at
END:VEVENT
BEGIN:VEVENT
DTSTART;TZID=Europe/Vienna:20250808T120000
DTEND;TZID=Europe/Vienna:20250808T230000
DTSTAMP:20260419T202637
CREATED:20240616T201401Z
LAST-MODIFIED:20260225T161521Z
UID:907-1754654400-1754694000@www.lvk-culd.at
SUMMARY:4. Country und Westernfest auf der Hiasl Zirbenhütte
DESCRIPTION:ANMELDUNG:\n						\n					\n				\n			\n				\n				\n				\n				\n				keine Anmeldung erforderlich
URL:https://www.lvk-culd.at/event/3-country-westernfeld-hiasl-zirbenhuette/
LOCATION:Hiasl Zirbenhütte\, Zirbenweg 10\, Sirnitz\, Kärnten\, 9571\, Österreich
ATTACH;FMTTYPE=image/jpeg:https://www.lvk-culd.at/wp-content/uploads/2023/12/Line-country-dance-tanzen-landesverband-kaernten-Bild-Taenzer.jpg
ORGANIZER;CN="DJ Woody":MAILTO:woody@lvk-culd.at
END:VEVENT
BEGIN:VEVENT
DTSTART;TZID=Europe/Vienna:20250712T180000
DTEND;TZID=Europe/Vienna:20250712T213000
DTSTAMP:20260419T202637
CREATED:20250408T200226Z
LAST-MODIFIED:20250408T200230Z
UID:1159-1752343200-1752355800@www.lvk-culd.at
SUMMARY:Linedance-Party mit DJ Helmut
DESCRIPTION:ANMELDUNG:\n						Unkostenbeitrag EUR 10\,00 pro Tanzabend \n					\n				\n			\n				HIER ANMELDEN
URL:https://www.lvk-culd.at/event/linedance-party-mit-dj-helmut-2/
LOCATION:Tanzwelt Wankmüller\, Schleppe Platz 5\, Klagenfurt am Wörthersee\, Kärnten\, 9020\, Austria
END:VEVENT
BEGIN:VEVENT
DTSTART;TZID=Europe/Vienna:20250614T180000
DTEND;TZID=Europe/Vienna:20250614T213000
DTSTAMP:20260419T202637
CREATED:20250408T200059Z
LAST-MODIFIED:20250408T200103Z
UID:1157-1749924000-1749936600@www.lvk-culd.at
SUMMARY:Linedance-Party mit DJ Helmut
DESCRIPTION:ANMELDUNG:\n						Unkostenbeitrag EUR 10\,00 pro Tanzabend \n					\n				\n			\n				HIER ANMELDEN
URL:https://www.lvk-culd.at/event/linedance-party-mit-dj-helmut/
LOCATION:Tanzwelt Wankmüller\, Schleppe Platz 5\, Klagenfurt am Wörthersee\, Kärnten\, 9020\, Austria
END:VEVENT
BEGIN:VEVENT
DTSTART;TZID=Europe/Vienna:20250607T143000
DTEND;TZID=Europe/Vienna:20250607T230000
DTSTAMP:20260419T202637
CREATED:20241117T174435Z
LAST-MODIFIED:20250411T165501Z
UID:1050-1749306600-1749337200@www.lvk-culd.at
SUMMARY:Line Dance Party für Alle mit Workshop
DESCRIPTION:Anmeldung ist offen!!! \nBitte per e-mail an \nlinedancecircle.at@gmail.com
URL:https://www.lvk-culd.at/event/line-dance-party-fuer-alle-mit-workshop/
LOCATION:Knappenhaus in Bad Bleiberg\, Mühlbacherweg 3\, Bad Bleiberg\, Kärnten\, 9530\, Austria
END:VEVENT
BEGIN:VEVENT
DTSTART;VALUE=DATE:20250517
DTEND;VALUE=DATE:20250518
DTSTAMP:20260419T202637
CREATED:20240702T193828Z
LAST-MODIFIED:20250112T215634Z
UID:926-1747440000-1747526399@www.lvk-culd.at
SUMMARY:Start Up And Dance Spring Beginner Workshop + Party
DESCRIPTION:ANMELDUNG:\n						Informationen folgen bzw. gibt es laufend auf der Facebook Seite der Line Dance Family! \n  \n					\n				\n			\n				\n				\n				\n				\n				startupanddance@gmx.net
URL:https://www.lvk-culd.at/event/start-up-and-dance-spring-basic-workshop-party/
LOCATION:Hotel eduCARE\, Eichrainweg 7-9\, Treffen am Ossiacher See\, Kärnten\, 9521\, Österreich
ATTACH;FMTTYPE=image/jpeg:https://www.lvk-culd.at/wp-content/uploads/2024/07/image0.jpeg
ORGANIZER;CN="Line Dance Family":MAILTO:startupanddance@gmx.net
END:VEVENT
BEGIN:VEVENT
DTSTART;TZID=Europe/Vienna:20250510T180000
DTEND;TZID=Europe/Vienna:20250510T213000
DTSTAMP:20260419T202637
CREATED:20250408T195136Z
LAST-MODIFIED:20250408T195840Z
UID:1145-1746900000-1746912600@www.lvk-culd.at
SUMMARY:Linedance-Party mit DJ Helmut
DESCRIPTION:ANMELDUNG:\n						Unkostenbeitrag EUR 10\,00 pro Tanzabend \n					\n				\n			\n				HIER ANMELDEN
URL:https://www.lvk-culd.at/event/linedance-party/
LOCATION:Tanzwelt Wankmüller\, Schleppe Platz 5\, Klagenfurt am Wörthersee\, Kärnten\, 9020\, Austria
END:VEVENT
BEGIN:VEVENT
DTSTART;TZID=Europe/Vienna:20250502T183000
DTEND;TZID=Europe/Vienna:20250502T210000
DTSTAMP:20260419T202637
CREATED:20250118T082356Z
LAST-MODIFIED:20250118T082400Z
UID:1090-1746210600-1746219600@www.lvk-culd.at
SUMMARY:Generalversammlung des LVK-Culd
DESCRIPTION:KEINE ANMELDUNG ERFORDERLICH
URL:https://www.lvk-culd.at/event/generalversammlung-des-lvk-culd-2/
LOCATION:Gemeindezentrum St. Ruprecht\, Kinoplatz 3\, Klagenfurt\, Kärnten\, 9020\, Österreich
ATTACH;FMTTYPE=image/png:https://www.lvk-culd.at/wp-content/uploads/2023/12/cropped-website-icon.png
ORGANIZER;CN="LVK-CULD - Landesverband K%C3%A4rnten":MAILTO:lvkculd@gmail.com
END:VEVENT
BEGIN:VEVENT
DTSTART;TZID=Europe/Vienna:20250426T140000
DTEND;TZID=Europe/Vienna:20250426T235500
DTSTAMP:20260419T202637
CREATED:20241112T204644Z
LAST-MODIFIED:20250206T202916Z
UID:1033-1745676000-1745711700@www.lvk-culd.at
SUMMARY:20-Jahr-Jubiläum Line Dance Friesach
DESCRIPTION:Anmeldungen unter \nld.friesach@gmail.com \n 
URL:https://www.lvk-culd.at/event/20-jahre-line-dance-friesach/
LOCATION:Kulturhaus Micheldorf\, Micheldorf\, Micheldorf\, Kärnten\, 9322\, Österreich
END:VEVENT
BEGIN:VEVENT
DTSTART;VALUE=DATE:20250329
DTEND;VALUE=DATE:20250330
DTSTAMP:20260419T202637
CREATED:20240616T190727Z
LAST-MODIFIED:20250304T220247Z
UID:878-1743206400-1743292799@www.lvk-culd.at
SUMMARY:Frühlingfest der LDCK
DESCRIPTION:ANMELDUNG:\n						Anmeldung offen:  \nanmeldung@linedance.at \n  \n					\n				\n			\n				\n				\n				\n				\n				  \n 
URL:https://www.lvk-culd.at/event/fruehlingfest-der-ldck/
LOCATION:Gemeindezentrum St. Ruprecht\, Kinoplatz 3\, Klagenfurt\, Kärnten\, 9020\, Österreich
ORGANIZER;CN="Line Dance Company Klagenfurt":MAILTO:info@linedance.at
END:VEVENT
BEGIN:VEVENT
DTSTART;TZID=Europe/Vienna:20250228T193000
DTEND;TZID=Europe/Vienna:20250228T235900
DTSTAMP:20260419T202637
CREATED:20241217T211643Z
LAST-MODIFIED:20250216T193402Z
UID:1074-1740771000-1740787140@www.lvk-culd.at
SUMMARY:Faschingsparty der LDCK
DESCRIPTION:ANMELDUNG:\n						Keine Anmeldung erforderlich!
URL:https://www.lvk-culd.at/event/faschingsparty-der-ldck-2/
LOCATION:Pfarre St. Theresia\, Auer-von-Welsbach-Straße 1\, Klagenfurt am Wörthersee\, Kärnten\, 9020\, Österreich
ORGANIZER;CN="Line Dance Company Klagenfurt":MAILTO:info@linedance.at
END:VEVENT
BEGIN:VEVENT
DTSTART;VALUE=DATE:20250111
DTEND;VALUE=DATE:20250112
DTSTAMP:20260419T202637
CREATED:20240702T193405Z
LAST-MODIFIED:20241004T183334Z
UID:919-1736553600-1736639999@www.lvk-culd.at
SUMMARY:Start Up And Dance Beginner Workshop + Party
DESCRIPTION:ANMELDUNG:\n						Informationen folgen bzw. gibt es laufend auf der Facebook Seite der Line Dance Family! \n \n					\n				\n			\n				\n				\n				\n				\n				startupanddance@gmx.net
URL:https://www.lvk-culd.at/event/start-up-and-dance-beginner-workshop-party/
LOCATION:Hotel eduCARE\, Eichrainweg 7-9\, Treffen am Ossiacher See\, Kärnten\, 9521\, Österreich
ATTACH;FMTTYPE=image/jpeg:https://www.lvk-culd.at/wp-content/uploads/2024/07/image0.jpeg
ORGANIZER;CN="Line Dance Family":MAILTO:startupanddance@gmx.net
END:VEVENT
BEGIN:VEVENT
DTSTART;TZID=Europe/Vienna:20241207T140000
DTEND;TZID=Europe/Vienna:20241207T230000
DTSTAMP:20260419T202638
CREATED:20240218T150613Z
LAST-MODIFIED:20241012T190708Z
UID:826-1733580000-1733612400@www.lvk-culd.at
SUMMARY:Christmas Workshop
DESCRIPTION:ANMELDUNG:\n						Anmeldung bereits möglich unter … \nanmeldung@lvk-culd.at \n  \n  \n					\n				\n			\n				\n				\n				\n				\n				  \nAuch dieses Jahr gilt freier Eintritt für LVK-Culd-Mitglieder!   \nFür Nicht-Mitglieder:  Workshop & Party EUR 19\,00\, Party EUR 7\,00.  \nFür neue Mitglieder wäre der Eintritt frei\, wenn der Mitgliedsbeitrag 2025 in Höhe von EUR 28\,00 bereits vor Ort bezahlt wird. \nTanzwünsche bitte per e-mail bekanntgeben.
URL:https://www.lvk-culd.at/event/christmas-workshop/
LOCATION:Gemeindezentrum St. Ruprecht\, Kinoplatz 3\, Klagenfurt\, Kärnten\, 9020\, Österreich
ATTACH;FMTTYPE=image/jpeg:https://www.lvk-culd.at/wp-content/uploads/2024/02/christmas-3735928_1280.jpg
ORGANIZER;CN="LVK-CULD - Landesverband K%C3%A4rnten":MAILTO:lvkculd@gmail.com
END:VEVENT
END:VCALENDAR